BEGIN:VCALENDAR
VERSION:2.0
PRODID:-//The Prince George’s County American Job Center Community Network  | Maryland | DC Area - ECPv6.15.20//NONSGML v1.0//EN
CALSCALE:GREGORIAN
METHOD:PUBLISH
X-WR-CALNAME:The Prince George’s County American Job Center Community Network  | Maryland | DC Area
X-ORIGINAL-URL:https://pgcajc.com
X-WR-CALDESC:Events for The Prince George’s County American Job Center Community Network  | Maryland | DC Area
REFRESH-INTERVAL;VALUE=DURATION:PT1H
X-Robots-Tag:noindex
X-PUBLISHED-TTL:PT1H
BEGIN:VTIMEZONE
TZID:UTC
BEGIN:STANDARD
TZOFFSETFROM:+0000
TZOFFSETTO:+0000
TZNAME:UTC
DTSTART:20200101T000000
END:STANDARD
END:VTIMEZONE
BEGIN:VEVENT
DTSTART;TZID=UTC:20210526T130000
DTEND;TZID=UTC:20210526T140000
DTSTAMP:20260423T143326
CREATED:20210520T150341Z
LAST-MODIFIED:20210528T143629Z
UID:1661-1622034000-1622037600@pgcajc.com
SUMMARY:EPIC/MedCerts IT Helpdesk Training
DESCRIPTION:E
URL:https://pgcajc.com/events-old/epic-medcerts-it-helpdesk-training/
END:VEVENT
END:VCALENDAR